BEGIN:VCALENDAR
VERSION:2.0
PRODID:-//Satakieliohjelma - ECPv5.1.5//NONSGML v1.0//EN
CALSCALE:GREGORIAN
METHOD:PUBLISH
X-WR-CALNAME:Satakieliohjelma
X-ORIGINAL-URL:https://www.satakieliohjelma.fi
X-WR-CALDESC:Tapahtumat Satakieliohjelma
BEGIN:VTIMEZONE
TZID:Europe/Helsinki
BEGIN:DAYLIGHT
TZOFFSETFROM:+0200
TZOFFSETTO:+0300
TZNAME:EEST
DTSTART:20200329T010000
END:DAYLIGHT
BEGIN:STANDARD
TZOFFSETFROM:+0300
TZOFFSETTO:+0200
TZNAME:EET
DTSTART:20201025T010000
END:STANDARD
END:VTIMEZONE
BEGIN:VEVENT
DTSTART;TZID=Europe/Helsinki:20200519T170000
DTEND;TZID=Europe/Helsinki:20200519T180000
DTSTAMP:20211202T060458
CREATED:20200331T075525Z
LAST-MODIFIED:20200518T062658Z
UID:9989-1589907600-1589911200@www.satakieliohjelma.fi
SUMMARY:Voimaa vanhemmuuteen -keskusteluilta 19.5.2020
DESCRIPTION:VOIMAA VANHEMMUUTEEN – keskusteluilta verkossa\nti 19.5.2020 klo 17-18\n  \n \n\nVoimaa vanhemmuuteen -keskusteluilloissa pohditaan uusiin tilanteisiin ja muutokseen sopeutumista eli resilienssiä sekä keskustellaan perheen arkikuntoutukseen ja jaksamiseen liittyvistä aiheista. \nKeskusteluillat ovat avoimia kuulovammaisten lasten vanhemmille ja niitä järjestetään kolme kertaa\, huhtikuussa\, toukokuussa sekä kesäkuussa. Voit osallistua yhteen tai useampaan iltaan.  Alustajana Voimaa vanhemmuuteen- keskustelutilaisuudessa toimii pari- ja perhepsykoterapeutti Maarit Engberg\, jonka alustuksen jälkeen on keskustelun\, yhteisen ihmettelyn ja kysymysten aika. \n  \nVoit osallistua tilaisuuteen vaikka kotisohvalta. Keitä kuppi kuumaa ja hengähdä hetki. Voit osallistua keskusteluun joko chatissa tai äänellä. Voit myös olla aivan hiljaa ja seurata aiheen ympärillä käytävää keskustelua. \n\n\nILMOITTAUDU MUKAAN\nIlmoittaudu ma 18.5.2020 mennessä. \n  \nMikäli jostain syystä et saa osallistumislinkkiä ti 19.5.2020 aamupäivän aikana\, ota yhteys Laura Tilukseen: laura.tilus@satakieliohjelma.fi \n  \n\n\n    \n
URL:https://www.satakieliohjelma.fi/index.php/event/voimaa-vanhemmuuteen-keskusteluilta-19-5-2020/
LOCATION:osallistu siellä missä oletkin
CATEGORIES:Koulutukset,Tapahtumat
END:VEVENT
END:VCALENDAR